Workbook

Sheet Tracker
A1: Attendance Point System
A2: Template from WorkIntel Hub (workintelhub.com). Free to use and adapt. Not legal advice.
A4: Date | B4: Employee | C4: Occurrence | D4: Points | E4: Protected (Y/N) | F4: Counted points | G4: Expires | H4: Active (Y/N) | I4: Notes | J4: Recorded by
F5: =IF(A5="","",IF(E5="Y",0,D5)) | G5: =IF(A5="","",EDATE(A5,12)) | H5: =IF(A5="","",IF(TODAY()<=G5,"Y","N"))
F6: =IF(A6="","",IF(E6="Y",0,D6)) | G6: =IF(A6="","",EDATE(A6,12)) | H6: =IF(A6="","",IF(TODAY()<=G6,"Y","N"))
F7: =IF(A7="","",IF(E7="Y",0,D7)) | G7: =IF(A7="","",EDATE(A7,12)) | H7: =IF(A7="","",IF(TODAY()<=G7,"Y","N"))
F8: =IF(A8="","",IF(E8="Y",0,D8)) | G8: =IF(A8="","",EDATE(A8,12)) | H8: =IF(A8="","",IF(TODAY()<=G8,"Y","N"))
F9: =IF(A9="","",IF(E9="Y",0,D9)) | G9: =IF(A9="","",EDATE(A9,12)) | H9: =IF(A9="","",IF(TODAY()<=G9,"Y","N"))
F10: =IF(A10="","",IF(E10="Y",0,D10)) | G10: =IF(A10="","",EDATE(A10,12)) | H10: =IF(A10="","",IF(TODAY()<=G10,"Y","N"))
F11: =IF(A11="","",IF(E11="Y",0,D11)) | G11: =IF(A11="","",EDATE(A11,12)) | H11: =IF(A11="","",IF(TODAY()<=G11,"Y","N"))
F12: =IF(A12="","",IF(E12="Y",0,D12)) | G12: =IF(A12="","",EDATE(A12,12)) | H12: =IF(A12="","",IF(TODAY()<=G12,"Y","N"))
F13: =IF(A13="","",IF(E13="Y",0,D13)) | G13: =IF(A13="","",EDATE(A13,12)) | H13: =IF(A13="","",IF(TODAY()<=G13,"Y","N"))
F14: =IF(A14="","",IF(E14="Y",0,D14)) | G14: =IF(A14="","",EDATE(A14,12)) | H14: =IF(A14="","",IF(TODAY()<=G14,"Y","N"))
F15: =IF(A15="","",IF(E15="Y",0,D15)) | G15: =IF(A15="","",EDATE(A15,12)) | H15: =IF(A15="","",IF(TODAY()<=G15,"Y","N"))
F16: =IF(A16="","",IF(E16="Y",0,D16)) | G16: =IF(A16="","",EDATE(A16,12)) | H16: =IF(A16="","",IF(TODAY()<=G16,"Y","N"))
... F44: =IF(A44="","",IF(E44="Y",0,D44)) | G44: =IF(A44="","",EDATE(A44,12)) | H44: =IF(A44="","",IF(TODAY()<=G44,"Y","N"))

Sheet Totals
A1: Attendance Point System
A2: Template from WorkIntel Hub (workintelhub.com). Free to use and adapt. Not legal advice.
A4: Employee | B4: Active points | C4: Next threshold | D4: Step due
B5: =IF(A5="","",SUMIFS(Tracker!F:F,Tracker!B:B,A5,Tracker!H:H,"Y")) | C5: =IF(A5="","",IF(B5<3,3,IF(B5<5,5,IF(B5<7,7,8)))) | D5: =IF(A5="","",IF(B5>=8,"Termination review",IF(B5>=7,"Final warning",IF(B5>=5,"Written warning",IF(B5>=3,"Coaching","None")))))
B6: =IF(A6="","",SUMIFS(Tracker!F:F,Tracker!B:B,A6,Tracker!H:H,"Y")) | C6: =IF(A6="","",IF(B6<3,3,IF(B6<5,5,IF(B6<7,7,8)))) | D6: =IF(A6="","",IF(B6>=8,"Termination review",IF(B6>=7,"Final warning",IF(B6>=5,"Written warning",IF(B6>=3,"Coaching","None")))))
B7: =IF(A7="","",SUMIFS(Tracker!F:F,Tracker!B:B,A7,Tracker!H:H,"Y")) | C7: =IF(A7="","",IF(B7<3,3,IF(B7<5,5,IF(B7<7,7,8)))) | D7: =IF(A7="","",IF(B7>=8,"Termination review",IF(B7>=7,"Final warning",IF(B7>=5,"Written warning",IF(B7>=3,"Coaching","None")))))
B8: =IF(A8="","",SUMIFS(Tracker!F:F,Tracker!B:B,A8,Tracker!H:H,"Y")) | C8: =IF(A8="","",IF(B8<3,3,IF(B8<5,5,IF(B8<7,7,8)))) | D8: =IF(A8="","",IF(B8>=8,"Termination review",IF(B8>=7,"Final warning",IF(B8>=5,"Written warning",IF(B8>=3,"Coaching","None")))))
B9: =IF(A9="","",SUMIFS(Tracker!F:F,Tracker!B:B,A9,Tracker!H:H,"Y")) | C9: =IF(A9="","",IF(B9<3,3,IF(B9<5,5,IF(B9<7,7,8)))) | D9: =IF(A9="","",IF(B9>=8,"Termination review",IF(B9>=7,"Final warning",IF(B9>=5,"Written warning",IF(B9>=3,"Coaching","None")))))
B10: =IF(A10="","",SUMIFS(Tracker!F:F,Tracker!B:B,A10,Tracker!H:H,"Y")) | C10: =IF(A10="","",IF(B10<3,3,IF(B10<5,5,IF(B10<7,7,8)))) | D10: =IF(A10="","",IF(B10>=8,"Termination review",IF(B10>=7,"Final warning",IF(B10>=5,"Written warning",IF(B10>=3,"Coaching","None")))))
B11: =IF(A11="","",SUMIFS(Tracker!F:F,Tracker!B:B,A11,Tracker!H:H,"Y")) | C11: =IF(A11="","",IF(B11<3,3,IF(B11<5,5,IF(B11<7,7,8)))) | D11: =IF(A11="","",IF(B11>=8,"Termination review",IF(B11>=7,"Final warning",IF(B11>=5,"Written warning",IF(B11>=3,"Coaching","None")))))
B12: =IF(A12="","",SUMIFS(Tracker!F:F,Tracker!B:B,A12,Tracker!H:H,"Y")) | C12: =IF(A12="","",IF(B12<3,3,IF(B12<5,5,IF(B12<7,7,8)))) | D12: =IF(A12="","",IF(B12>=8,"Termination review",IF(B12>=7,"Final warning",IF(B12>=5,"Written warning",IF(B12>=3,"Coaching","None")))))
B13: =IF(A13="","",SUMIFS(Tracker!F:F,Tracker!B:B,A13,Tracker!H:H,"Y")) | C13: =IF(A13="","",IF(B13<3,3,IF(B13<5,5,IF(B13<7,7,8)))) | D13: =IF(A13="","",IF(B13>=8,"Termination review",IF(B13>=7,"Final warning",IF(B13>=5,"Written warning",IF(B13>=3,"Coaching","None")))))
B14: =IF(A14="","",SUMIFS(Tracker!F:F,Tracker!B:B,A14,Tracker!H:H,"Y")) | C14: =IF(A14="","",IF(B14<3,3,IF(B14<5,5,IF(B14<7,7,8)))) | D14: =IF(A14="","",IF(B14>=8,"Termination review",IF(B14>=7,"Final warning",IF(B14>=5,"Written warning",IF(B14>=3,"Coaching","None")))))
B15: =IF(A15="","",SUMIFS(Tracker!F:F,Tracker!B:B,A15,Tracker!H:H,"Y")) | C15: =IF(A15="","",IF(B15<3,3,IF(B15<5,5,IF(B15<7,7,8)))) | D15: =IF(A15="","",IF(B15>=8,"Termination review",IF(B15>=7,"Final warning",IF(B15>=5,"Written warning",IF(B15>=3,"Coaching","None")))))
B16: =IF(A16="","",SUMIFS(Tracker!F:F,Tracker!B:B,A16,Tracker!H:H,"Y")) | C16: =IF(A16="","",IF(B16<3,3,IF(B16<5,5,IF(B16<7,7,8)))) | D16: =IF(A16="","",IF(B16>=8,"Termination review",IF(B16>=7,"Final warning",IF(B16>=5,"Written warning",IF(B16>=3,"Coaching","None")))))
... B29: =IF(A29="","",SUMIFS(Tracker!F:F,Tracker!B:B,A29,Tracker!H:H,"Y")) | C29: =IF(A29="","",IF(B29<3,3,IF(B29<5,5,IF(B29<7,7,8)))) | D29: =IF(A29="","",IF(B29>=8,"Termination review",IF(B29>=7,"Final warning",IF(B29>=5,"Written warning",IF(B29>=3,"Coaching","None")))))

Sheet Point values
A1: Attendance Point System
A2: Template from WorkIntel Hub (workintelhub.com). Free to use and adapt. Not legal advice.
A4: Occurrence | B4: Points | C4: Notes
A5: Late 1-15 min | B5: 0.5
A6: Late over 15 min | B6: 1
A7: Leaving early | B7: 0.5
A8: Unscheduled absence | B8: 1 | C8: Consecutive days for one illness count once
A9: No-call no-show | B9: 3 | C9: Two consecutive = job abandonment review
A10: Missed punch | B10: 0.5 | C10: If uncorrected

Sheet Thresholds
A1: Attendance Point System
A2: Template from WorkIntel Hub (workintelhub.com). Free to use and adapt. Not legal advice.
A4: Points | B4: Step
A5: 3 | B5: Documented coaching
A6: 5 | B6: Written warning
A7: 7 | B7: Final written warning
A8: 8 | B8: Termination

Sheet Protected absences
A1: Attendance Point System
A2: Template from WorkIntel Hub (workintelhub.com). Free to use and adapt. Not legal advice.
A4: Category | B4: Law | C4: Never counted
A5: Family and medical leave | B5: FMLA; state FMLA laws | C5: Yes
A6: Disability accommodation | B6: ADA; state law | C6: Yes
A7: Paid sick leave | B7: State and local sick leave laws | C7: Yes
A8: Pregnancy and lactation | B8: PWFA; PUMP Act; state law | C8: Yes
A9: Military | B9: USERRA | C9: Yes
A10: Jury, witness, voting | B10: State law | C10: Yes
A11: Workers' compensation | B11: State law | C11: Yes
