Workbook

Sheet Agreements
A1: Remote Work Agreement
A2: Template from WorkIntel Hub (workintelhub.com). Free to use and adapt. Not legal advice.
A4: Employee | B4: Role | C4: Manager | D4: Arrangement | E4: Primary location | F4: State | G4: Core hours | H4: Stipend | I4: Effective | J4: Review date | K4: Days to review | L4: Signed (Y/N) | M4: Equipment issued | N4: Notes
K5: =IF(J5="","",J5-TODAY())
K6: =IF(J6="","",J6-TODAY())
K7: =IF(J7="","",J7-TODAY())
K8: =IF(J8="","",J8-TODAY())
K9: =IF(J9="","",J9-TODAY())
K10: =IF(J10="","",J10-TODAY())
K11: =IF(J11="","",J11-TODAY())
K12: =IF(J12="","",J12-TODAY())
K13: =IF(J13="","",J13-TODAY())
K14: =IF(J14="","",J14-TODAY())
K15: =IF(J15="","",J15-TODAY())
K16: =IF(J16="","",J16-TODAY())
... K34: =IF(J34="","",J34-TODAY())

Sheet States
A1: Remote Work Agreement
A2: Template from WorkIntel Hub (workintelhub.com). Free to use and adapt. Not legal advice.
A4: State | B4: Employees | C4: Registered for payroll tax (Y/N) | D4: Workers' comp coverage (Y/N) | E4: Notes
B5: =IF(A5="","",COUNTIF(Agreements!F:F,A5))
B6: =IF(A6="","",COUNTIF(Agreements!F:F,A6))
B7: =IF(A7="","",COUNTIF(Agreements!F:F,A7))
B8: =IF(A8="","",COUNTIF(Agreements!F:F,A8))
B9: =IF(A9="","",COUNTIF(Agreements!F:F,A9))
B10: =IF(A10="","",COUNTIF(Agreements!F:F,A10))
B11: =IF(A11="","",COUNTIF(Agreements!F:F,A11))
B12: =IF(A12="","",COUNTIF(Agreements!F:F,A12))
B13: =IF(A13="","",COUNTIF(Agreements!F:F,A13))
B14: =IF(A14="","",COUNTIF(Agreements!F:F,A14))
B15: =IF(A15="","",COUNTIF(Agreements!F:F,A15))
B16: =IF(A16="","",COUNTIF(Agreements!F:F,A16))
... B19: =IF(A19="","",COUNTIF(Agreements!F:F,A19))

Sheet Equipment
A1: Remote Work Agreement
A2: Template from WorkIntel Hub (workintelhub.com). Free to use and adapt. Not legal advice.
A4: Employee | B4: Item | C4: Asset no. | D4: Issued | E4: Value | F4: Returned | G4: Condition
A35: Total | E35: =SUM(E5:E34)
